BEGIN:VCALENDAR
VERSION:2.0
PRODID:-//The Flock Band - ECPv6.15.20//NONSGML v1.0//EN
CALSCALE:GREGORIAN
METHOD:PUBLISH
X-WR-CALNAME:The Flock Band
X-ORIGINAL-URL:https://flockbandmusic.com
X-WR-CALDESC:Events for The Flock Band
REFRESH-INTERVAL;VALUE=DURATION:PT1H
X-Robots-Tag:noindex
X-PUBLISHED-TTL:PT1H
BEGIN:VTIMEZONE
TZID:UTC
BEGIN:STANDARD
TZOFFSETFROM:+0000
TZOFFSETTO:+0000
TZNAME:UTC
DTSTART:20210101T000000
END:STANDARD
END:VTIMEZONE
BEGIN:VEVENT
DTSTART;TZID=UTC:20251004T180000
DTEND;TZID=UTC:20251004T210000
DTSTAMP:20260422T225617
CREATED:20250421T162953Z
LAST-MODIFIED:20250421T163045Z
UID:1088-1759600800-1759611600@flockbandmusic.com
SUMMARY:Doug Kent's Rose Bowl Lanes
DESCRIPTION:Doug Kent’s Rose Bowl Lane – 725 West Miller Street\, Newark NY 14513
URL:https://flockbandmusic.com/event/doug-kents-rose-bowl-lanes/
END:VEVENT
BEGIN:VEVENT
DTSTART;TZID=UTC:20240824T130000
DTEND;TZID=UTC:20240824T140000
DTSTAMP:20260422T225617
CREATED:20240715T140906Z
LAST-MODIFIED:20240715T202307Z
UID:1051-1724504400-1724508000@flockbandmusic.com
SUMMARY:Wallington Fire Department - Alton\, NY
DESCRIPTION:
URL:https://flockbandmusic.com/event/wallington-fire-department-alton-ny/
LOCATION:Wallington Fire Department\, 7863 Ridge Rd\, Sodus\, NY\, 14551
END:VEVENT
BEGIN:VEVENT
DTSTART;TZID=UTC:20230827T150000
DTEND;TZID=UTC:20230827T180000
DTSTAMP:20260422T225617
CREATED:20230503T160630Z
LAST-MODIFIED:20230503T160657Z
UID:1024-1693148400-1693159200@flockbandmusic.com
SUMMARY:Abe's Tiki Bar Aug 27
DESCRIPTION:Abe’s Waterfront Tiki Bar & Grill\n8527 Greig Street\nSodus Point NY 14555 \nFrom 3-6
URL:https://flockbandmusic.com/event/abes-tiki-bar-aug-27/
LOCATION:Abe’s Mai Tai Tiki Bar\, 8527 Greig Street\, Sodus Point\, NY\, 14555\, United States
CATEGORIES:Abe's Tiki Bar,Flock Band Music,Outdoor Music
END:VEVENT
BEGIN:VEVENT
DTSTART;TZID=UTC:20230813T080000
DTEND;TZID=UTC:20230813T170000
DTSTAMP:20260422T225617
CREATED:20230503T160446Z
LAST-MODIFIED:20230503T160446Z
UID:1022-1691913600-1691946000@flockbandmusic.com
SUMMARY:Abe's Tiki Bar Aug 13
DESCRIPTION:Abe’s Waterfront Tiki Bar & Grill\n8527 Greig Street\nSodus Point NY 14555 \nFrom 3-6
URL:https://flockbandmusic.com/event/abes-tiki-bar-aug-13/
LOCATION:Abe’s Mai Tai Tiki Bar\, 8527 Greig Street\, Sodus Point\, NY\, 14555\, United States
CATEGORIES:Abe's Tiki Bar,Flock Band Music,Outdoor Music
END:VEVENT
BEGIN:VEVENT
DTSTART;TZID=UTC:20230730T150000
DTEND;TZID=UTC:20230730T180000
DTSTAMP:20260422T225617
CREATED:20230503T160237Z
LAST-MODIFIED:20230503T160314Z
UID:1019-1690729200-1690740000@flockbandmusic.com
SUMMARY:Abe's Tiki Bar July 30
DESCRIPTION:Abe’s Waterfront Tiki Bar & Grill\n8527 Greig Street\nSodus Point NY 14555 \nFrom 3-6
URL:https://flockbandmusic.com/event/abes-tiki-bar/
LOCATION:Abe’s Mai Tai Tiki Bar\, 8527 Greig Street\, Sodus Point\, NY\, 14555\, United States
CATEGORIES:Abe's Tiki Bar,Flock Band Music,Outdoor Music
END:VEVENT
BEGIN:VEVENT
DTSTART;TZID=UTC:20230728T193000
DTEND;TZID=UTC:20230728T223000
DTSTAMP:20260422T225617
CREATED:20230411T122614Z
LAST-MODIFIED:20230411T122637Z
UID:994-1690572600-1690583400@flockbandmusic.com
SUMMARY:Twisted Rail Brewing
DESCRIPTION:Will be performing at the Twisted Rail Brewing from 7:30 – 10:30pm
URL:https://flockbandmusic.com/event/twisted-rail-brewing/
LOCATION:Twisted Rail\, 169 Lakeshore Drive\, Canandaigua\, NY\, 14424\, United States
END:VEVENT
BEGIN:VEVENT
DTSTART;TZID=UTC:20230716T150000
DTEND;TZID=UTC:20230716T180000
DTSTAMP:20260422T225617
CREATED:20230503T155929Z
LAST-MODIFIED:20230503T161127Z
UID:1017-1689519600-1689530400@flockbandmusic.com
SUMMARY:Abe's Tiki Bar July 16
DESCRIPTION:Abe’s Waterfront Tiki Bar & Grill\n8527 Greig Street\nSodus Point NY 14555 \nFrom 3-6
URL:https://flockbandmusic.com/event/abes-tiki-bar-july-16/
LOCATION:Abe’s Mai Tai Tiki Bar\, 8527 Greig Street\, Sodus Point\, NY\, 14555\, United States
CATEGORIES:Abe's Tiki Bar,Flock Band Music,Outdoor Music
END:VEVENT
BEGIN:VEVENT
DTSTART;TZID=UTC:20230702T150000
DTEND;TZID=UTC:20230702T180000
DTSTAMP:20260422T225617
CREATED:20230503T155749Z
LAST-MODIFIED:20230503T155749Z
UID:1015-1688310000-1688320800@flockbandmusic.com
SUMMARY:Abe’s Waterfront Tiki Bar & Grill July 2
DESCRIPTION:Abe’s Waterfront Tiki Bar & Grill\n8527 Greig Street\nSodus Point NY 14555\nFrom 3-6
URL:https://flockbandmusic.com/event/abes-waterfront-tiki-bar-grill-july-2/
LOCATION:Abe’s Mai Tai Tiki Bar\, 8527 Greig Street\, Sodus Point\, NY\, 14555\, United States
CATEGORIES:Abe's Tiki Bar,Flock Band Music
END:VEVENT
BEGIN:VEVENT
DTSTART;TZID=UTC:20230618T150000
DTEND;TZID=UTC:20230618T180000
DTSTAMP:20260422T225617
CREATED:20230503T151847Z
LAST-MODIFIED:20230503T161023Z
UID:1012-1687100400-1687111200@flockbandmusic.com
SUMMARY:Abe’s Waterfront Tiki Bar & Grill Fathers Day
DESCRIPTION:Abe’s Waterfront Tiki Bar & Grill\n8527 Greig Street\nSodus Point NY 14555 \nFrom 3-6 \nJune 18 – Happy Father’s Day!
URL:https://flockbandmusic.com/event/abes-waterfront-tiki-bar-grill-fathers-day/
LOCATION:Abe’s Mai Tai Tiki Bar\, 8527 Greig Street\, Sodus Point\, NY\, 14555\, United States
CATEGORIES:Abe's Tiki Bar,Flock Band Music,Outdoor Music
END:VEVENT
BEGIN:VEVENT
DTSTART;TZID=UTC:20220910T120000
DTEND;TZID=UTC:20220910T150000
DTSTAMP:20260422T225617
CREATED:20220620T173806Z
LAST-MODIFIED:20220620T173806Z
UID:951-1662811200-1662822000@flockbandmusic.com
SUMMARY:Rotary Family Festival
DESCRIPTION:
URL:https://flockbandmusic.com/event/rotary-family-festival/
LOCATION:Rotary Festival Location\, 100 Barker Parkway\, Newark\, NY\, United States
END:VEVENT
BEGIN:VEVENT
DTSTART;TZID=UTC:20220904T190000
DTEND;TZID=UTC:20220904T230000
DTSTAMP:20260422T225617
CREATED:20220630T054210Z
LAST-MODIFIED:20220701T160838Z
UID:963-1662318000-1662332400@flockbandmusic.com
SUMMARY:Twisted Rail\, Canandaigua
DESCRIPTION:
URL:https://flockbandmusic.com/event/twisted-rail-canandaigua/
LOCATION:Twisted Rail\, 169 Lakeshore Drive\, Canandaigua\, NY\, 14424\, United States
END:VEVENT
BEGIN:VEVENT
DTSTART;TZID=UTC:20220828T150000
DTEND;TZID=UTC:20220828T180000
DTSTAMP:20260422T225617
CREATED:20220630T054726Z
LAST-MODIFIED:20220630T054726Z
UID:968-1661698800-1661709600@flockbandmusic.com
SUMMARY:Abe's\, Sodus Point
DESCRIPTION:
URL:https://flockbandmusic.com/event/abes-sodus-point-8/
LOCATION:Abe’s Sodus Point\, 8527 Greig St\, Sodus Point\, NY\, 14555\, United States
END:VEVENT
BEGIN:VEVENT
DTSTART;TZID=UTC:20220821T150000
DTEND;TZID=UTC:20220821T180000
DTSTAMP:20260422T225617
CREATED:20220630T054628Z
LAST-MODIFIED:20220630T054628Z
UID:966-1661094000-1661104800@flockbandmusic.com
SUMMARY:Abe's\, Sodus Point
DESCRIPTION:
URL:https://flockbandmusic.com/event/abes-sodus-point-7/
LOCATION:Abe’s Sodus Point\, 8527 Greig St\, Sodus Point\, NY\, 14555\, United States
END:VEVENT
BEGIN:VEVENT
DTSTART;TZID=UTC:20220813T190000
DTEND;TZID=UTC:20220813T220000
DTSTAMP:20260422T225617
CREATED:20220621T170431Z
LAST-MODIFIED:20220621T170431Z
UID:959-1660417200-1660428000@flockbandmusic.com
SUMMARY:Private Event\, Sodus Point NY
DESCRIPTION:
URL:https://flockbandmusic.com/event/private-event-sodus-point-ny/
LOCATION:Captian Jack’s
END:VEVENT
BEGIN:VEVENT
DTSTART;TZID=UTC:20220731T150000
DTEND;TZID=UTC:20220731T180000
DTSTAMP:20260422T225617
CREATED:20220406T132319Z
LAST-MODIFIED:20220630T054443Z
UID:932-1659279600-1659290400@flockbandmusic.com
SUMMARY:Abe’s\, Sodus Point
DESCRIPTION:
URL:https://flockbandmusic.com/event/abes-sodus-point-5/
LOCATION:Abe’s Sodus Point\, 8527 Greig St\, Sodus Point\, NY\, 14555\, United States
END:VEVENT
BEGIN:VEVENT
DTSTART;TZID=UTC:20220717T150000
DTEND;TZID=UTC:20220717T180000
DTSTAMP:20260422T225617
CREATED:20220406T132836Z
LAST-MODIFIED:20220630T054404Z
UID:938-1658070000-1658080800@flockbandmusic.com
SUMMARY:Abe’s\, Sodus Point
DESCRIPTION:
URL:https://flockbandmusic.com/event/abes-sodus-point-6/
LOCATION:Abe’s Sodus Point\, 8527 Greig St\, Sodus Point\, NY\, 14555\, United States
END:VEVENT
BEGIN:VEVENT
DTSTART;TZID=UTC:20220711T183000
DTEND;TZID=UTC:20220711T203000
DTSTAMP:20260422T225617
CREATED:20220406T132731Z
LAST-MODIFIED:20220406T135352Z
UID:936-1657564200-1657571400@flockbandmusic.com
SUMMARY:Redfield Park\, Phelps
DESCRIPTION:
URL:https://flockbandmusic.com/event/redfield-park-phelps/
LOCATION:Redfield Park\, Phelps\, NY\, United States
END:VEVENT
BEGIN:VEVENT
DTSTART;TZID=UTC:20220708T180000
DTEND;TZID=UTC:20220708T200000
DTSTAMP:20260422T225617
CREATED:20220406T132525Z
LAST-MODIFIED:20220406T135244Z
UID:934-1657303200-1657310400@flockbandmusic.com
SUMMARY:Music On The Erie
DESCRIPTION:
URL:https://flockbandmusic.com/event/music-on-the-erie-4/
LOCATION:Music on the Erie\, Newark\, NY\, United States
END:VEVENT
BEGIN:VEVENT
DTSTART;TZID=UTC:20220702T170000
DTEND;TZID=UTC:20220702T200000
DTSTAMP:20260422T225617
CREATED:20220406T132146Z
LAST-MODIFIED:20220406T132146Z
UID:930-1656781200-1656792000@flockbandmusic.com
SUMMARY:Abe’s\, Sodus Point
DESCRIPTION:
URL:https://flockbandmusic.com/event/abes-sodus-point-4/
LOCATION:Abe’s Sodus Point\, 8527 Greig St\, Sodus Point\, NY\, 14555\, United States
END:VEVENT
BEGIN:VEVENT
DTSTART;TZID=UTC:20220619T160000
DTEND;TZID=UTC:20220619T190000
DTSTAMP:20260422T225617
CREATED:20220406T132028Z
LAST-MODIFIED:20220406T132028Z
UID:928-1655654400-1655665200@flockbandmusic.com
SUMMARY:Abe’s\, Sodus Point
DESCRIPTION:
URL:https://flockbandmusic.com/event/abes-sodus-point-3/
LOCATION:Abe’s Sodus Point\, 8527 Greig St\, Sodus Point\, NY\, 14555\, United States
END:VEVENT
BEGIN:VEVENT
DTSTART;TZID=UTC:20220609T170000
DTEND;TZID=UTC:20220609T210000
DTSTAMP:20260422T225617
CREATED:20220406T131906Z
LAST-MODIFIED:20220406T131906Z
UID:926-1654794000-1654808400@flockbandmusic.com
SUMMARY:Abe’s\, Sodus Point
DESCRIPTION:
URL:https://flockbandmusic.com/event/abes-sodus-point-2/
LOCATION:Abe’s Sodus Point\, 8527 Greig St\, Sodus Point\, NY\, 14555\, United States
END:VEVENT
BEGIN:VEVENT
DTSTART;TZID=UTC:20220526T170000
DTEND;TZID=UTC:20220526T200000
DTSTAMP:20260422T225617
CREATED:20220406T131732Z
LAST-MODIFIED:20220406T131732Z
UID:923-1653584400-1653595200@flockbandmusic.com
SUMMARY:Abe’s\, Sodus Point
DESCRIPTION:
URL:https://flockbandmusic.com/event/abes-sodus-point/
LOCATION:Abe’s Sodus Point\, 8527 Greig St\, Sodus Point\, NY\, 14555\, United States
END:VEVENT
BEGIN:VEVENT
DTSTART;TZID=UTC:20220524T173000
DTEND;TZID=UTC:20220524T203000
DTSTAMP:20260422T225617
CREATED:20220406T131432Z
LAST-MODIFIED:20220406T135044Z
UID:920-1653413400-1653424200@flockbandmusic.com
SUMMARY:Dewey's Party House
DESCRIPTION:
URL:https://flockbandmusic.com/event/deweys-party-house/
LOCATION:Dewey’s Party House\, 67 Auburn Rd\, Seneca Fall’s\, NY\, 13148\, United States
END:VEVENT
END:VCALENDAR