BEGIN:VCALENDAR
VERSION:2.0
PRODID:-//The Flock Band - ECPv6.15.20//NONSGML v1.0//EN
CALSCALE:GREGORIAN
METHOD:PUBLISH
X-ORIGINAL-URL:https://flockbandmusic.com
X-WR-CALDESC:Events for The Flock Band
REFRESH-INTERVAL;VALUE=DURATION:PT1H
X-Robots-Tag:noindex
X-PUBLISHED-TTL:PT1H
BEGIN:VTIMEZONE
TZID:UTC
BEGIN:STANDARD
TZOFFSETFROM:+0000
TZOFFSETTO:+0000
TZNAME:UTC
DTSTART:20250101T000000
END:STANDARD
END:VTIMEZONE
BEGIN:VEVENT
DTSTART;TZID=UTC:20260502T180000
DTEND;TZID=UTC:20260502T210000
DTSTAMP:20260422T225706
CREATED:20260209T092415Z
LAST-MODIFIED:20260209T142456Z
UID:1092-1777744800-1777755600@flockbandmusic.com
SUMMARY:Doug Kent's Rose Bowl Lanes
DESCRIPTION:Doug Kent’s Rose Bowl Lanes – 725 West Miller Street\, Newark NY 14513
URL:https://flockbandmusic.com/event/doug-kents-rose-bowl-lanes-2/
END:VEVENT
BEGIN:VEVENT
DTSTART;TZID=UTC:20260524T180000
DTEND;TZID=UTC:20260524T210000
DTSTAMP:20260422T225706
CREATED:20260209T094950Z
LAST-MODIFIED:20260209T144918Z
UID:1083-1779645600-1779656400@flockbandmusic.com
SUMMARY:The Trestle - Sodus Point NY
DESCRIPTION:The Trestle – 8506 Greig Street – Sodus Point NY 14555
URL:https://flockbandmusic.com/event/the-trestle-sodus-point-ny-7/
END:VEVENT
BEGIN:VEVENT
DTSTART;TZID=UTC:20260611T180000
DTEND;TZID=UTC:20260611T210000
DTSTAMP:20260422T225706
CREATED:20250408T140451Z
LAST-MODIFIED:20260209T145130Z
UID:1081-1781200800-1781211600@flockbandmusic.com
SUMMARY:The Trestle - Sodus Point NY
DESCRIPTION:The Trestle – 8506 Greig Street – Sodus Point NY 14555
URL:https://flockbandmusic.com/event/the-trestle-sodus-point-ny-6/
END:VEVENT
BEGIN:VEVENT
DTSTART;TZID=UTC:20260625T180000
DTEND;TZID=UTC:20260625T210000
DTSTAMP:20260422T225706
CREATED:20260209T095639Z
LAST-MODIFIED:20260209T145657Z
UID:1079-1782410400-1782421200@flockbandmusic.com
SUMMARY:The Trestle - Sodus Point NY
DESCRIPTION:The Trestle – 8506 Greig Street – Sodus Point NY
URL:https://flockbandmusic.com/event/the-trestle-sodus-point-ny-5/
END:VEVENT
BEGIN:VEVENT
DTSTART;TZID=UTC:20260703T180000
DTEND;TZID=UTC:20260703T210000
DTSTAMP:20260422T225706
CREATED:20260209T095823Z
LAST-MODIFIED:20260209T145912Z
UID:1077-1783101600-1783112400@flockbandmusic.com
SUMMARY:The Trestle - Sodus Point NY
DESCRIPTION:The Trestle – 8506 Greig Street – Sodus Point NY 14555
URL:https://flockbandmusic.com/event/the-trestle-sodus-point-ny-4/
END:VEVENT
BEGIN:VEVENT
DTSTART;TZID=UTC:20260710T180000
DTEND;TZID=UTC:20260710T200000
DTSTAMP:20260422T225706
CREATED:20260209T094248Z
LAST-MODIFIED:20260209T144247Z
UID:999-1783706400-1783713600@flockbandmusic.com
SUMMARY:Music on the Erie
DESCRIPTION:Join us for Music on the Erie on July 10th! From 6-8pm.
URL:https://flockbandmusic.com/event/music-on-the-erie/
LOCATION:Music on the Erie\, Newark\, NY\, United States
END:VEVENT
BEGIN:VEVENT
DTSTART;TZID=UTC:20260716T180000
DTEND;TZID=UTC:20260716T210000
DTSTAMP:20260422T225706
CREATED:20260209T125911Z
LAST-MODIFIED:20260209T180002Z
UID:1075-1784224800-1784235600@flockbandmusic.com
SUMMARY:The Trestle - Sodus Point NY
DESCRIPTION:The Trestle – 8506 Greig Street – Sodus Point NY 14555
URL:https://flockbandmusic.com/event/the-trestle-sodus-point-ny-3/
END:VEVENT
BEGIN:VEVENT
DTSTART;TZID=UTC:20260807T180000
DTEND;TZID=UTC:20260807T200000
DTSTAMP:20260422T225706
CREATED:20260209T094541Z
LAST-MODIFIED:20260209T144557Z
UID:906-1786125600-1786132800@flockbandmusic.com
SUMMARY:Music on The Erie
DESCRIPTION:Join us for Music on the Erie!! August 7th 6-8
URL:https://flockbandmusic.com/event/music-on-the-erie-3/
LOCATION:Music on the Erie\, Newark\, NY\, United States
END:VEVENT
BEGIN:VEVENT
DTSTART;TZID=UTC:20260813T180000
DTEND;TZID=UTC:20260813T210000
DTSTAMP:20260422T225706
CREATED:20260209T130245Z
LAST-MODIFIED:20260209T180322Z
UID:1073-1786644000-1786654800@flockbandmusic.com
SUMMARY:The Trestle - Sodus Point NY
DESCRIPTION:The Trestle – 8506 Greig Street – Sodus Point NY 14555
URL:https://flockbandmusic.com/event/the-trestle-sodus-point-ny-2/
END:VEVENT
BEGIN:VEVENT
DTSTART;TZID=UTC:20260827T180000
DTEND;TZID=UTC:20260827T210000
DTSTAMP:20260422T225706
CREATED:20260209T094730Z
LAST-MODIFIED:20260416T153433Z
UID:1105-1787853600-1787864400@flockbandmusic.com
SUMMARY:THE TRESTLE
DESCRIPTION: 
URL:https://flockbandmusic.com/event/the-trestle-3/
END:VEVENT
BEGIN:VEVENT
DTSTART;TZID=UTC:20260827T180000
DTEND;TZID=UTC:20260827T210000
DTSTAMP:20260422T225706
CREATED:20260209T130409Z
LAST-MODIFIED:20260209T180424Z
UID:1071-1787853600-1787864400@flockbandmusic.com
SUMMARY:The Trestle - Sodus Point NY
DESCRIPTION:The Trestle – 8506 Greig Street – Sodus Point NY 14555
URL:https://flockbandmusic.com/event/the-trestle-sodus-point-ny/
END:VEVENT
BEGIN:VEVENT
DTSTART;TZID=UTC:20260906T180000
DTEND;TZID=UTC:20260906T210000
DTSTAMP:20260422T225706
CREATED:20250209T130500Z
LAST-MODIFIED:20260209T180602Z
UID:1100-1788717600-1788728400@flockbandmusic.com
SUMMARY:The Trestle - Sodus Point NY
DESCRIPTION:The Trestle – 8506 Greig Street\, Sodus Point NY
URL:https://flockbandmusic.com/event/the-trestle-2/
END:VEVENT
BEGIN:VEVENT
DTSTART;TZID=UTC:20260926T180000
DTEND;TZID=UTC:20260926T210000
DTSTAMP:20260422T225706
CREATED:20260209T130747Z
LAST-MODIFIED:20260209T180714Z
UID:1067-1790445600-1790456400@flockbandmusic.com
SUMMARY:The Trestle - Sodus Point NY
DESCRIPTION:The Trestle – 8506 Greig Street – Sodus Point NY – 14555
URL:https://flockbandmusic.com/event/the-trestle/
END:VEVENT
END:VCALENDAR