BEGIN:VCALENDAR
VERSION:2.0
PRODID:-//The Flock Band - ECPv6.15.20//NONSGML v1.0//EN
CALSCALE:GREGORIAN
METHOD:PUBLISH
X-WR-CALNAME:The Flock Band
X-ORIGINAL-URL:https://flockbandmusic.com
X-WR-CALDESC:Events for The Flock Band
REFRESH-INTERVAL;VALUE=DURATION:PT1H
X-Robots-Tag:noindex
X-PUBLISHED-TTL:PT1H
BEGIN:VTIMEZONE
TZID:UTC
BEGIN:STANDARD
TZOFFSETFROM:+0000
TZOFFSETTO:+0000
TZNAME:UTC
DTSTART:20210101T000000
END:STANDARD
END:VTIMEZONE
BEGIN:VEVENT
DTSTART;TZID=UTC:20220609T170000
DTEND;TZID=UTC:20220609T210000
DTSTAMP:20260422T224405
CREATED:20220406T131906Z
LAST-MODIFIED:20220406T131906Z
UID:926-1654794000-1654808400@flockbandmusic.com
SUMMARY:Abe’s\, Sodus Point
DESCRIPTION:
URL:https://flockbandmusic.com/event/abes-sodus-point-2/
LOCATION:Abe’s Sodus Point\, 8527 Greig St\, Sodus Point\, NY\, 14555\, United States
END:VEVENT
BEGIN:VEVENT
DTSTART;TZID=UTC:20220526T170000
DTEND;TZID=UTC:20220526T200000
DTSTAMP:20260422T224405
CREATED:20220406T131732Z
LAST-MODIFIED:20220406T131732Z
UID:923-1653584400-1653595200@flockbandmusic.com
SUMMARY:Abe’s\, Sodus Point
DESCRIPTION:
URL:https://flockbandmusic.com/event/abes-sodus-point/
LOCATION:Abe’s Sodus Point\, 8527 Greig St\, Sodus Point\, NY\, 14555\, United States
END:VEVENT
BEGIN:VEVENT
DTSTART;TZID=UTC:20220524T173000
DTEND;TZID=UTC:20220524T203000
DTSTAMP:20260422T224405
CREATED:20220406T131432Z
LAST-MODIFIED:20220406T135044Z
UID:920-1653413400-1653424200@flockbandmusic.com
SUMMARY:Dewey's Party House
DESCRIPTION:
URL:https://flockbandmusic.com/event/deweys-party-house/
LOCATION:Dewey’s Party House\, 67 Auburn Rd\, Seneca Fall’s\, NY\, 13148\, United States
END:VEVENT
END:VCALENDAR