BEGIN:VCALENDAR
VERSION:2.0
PRODID:-//The Flock Band - ECPv6.15.20//NONSGML v1.0//EN
CALSCALE:GREGORIAN
METHOD:PUBLISH
X-ORIGINAL-URL:https://flockbandmusic.com
X-WR-CALDESC:Events for The Flock Band
REFRESH-INTERVAL;VALUE=DURATION:PT1H
X-Robots-Tag:noindex
X-PUBLISHED-TTL:PT1H
BEGIN:VTIMEZONE
TZID:UTC
BEGIN:STANDARD
TZOFFSETFROM:+0000
TZOFFSETTO:+0000
TZNAME:UTC
DTSTART:20250101T000000
END:STANDARD
END:VTIMEZONE
BEGIN:VEVENT
DTSTART;TZID=UTC:20260703T180000
DTEND;TZID=UTC:20260703T210000
DTSTAMP:20260422T172717
CREATED:20260209T095823Z
LAST-MODIFIED:20260209T145912Z
UID:1077-1783101600-1783112400@flockbandmusic.com
SUMMARY:The Trestle - Sodus Point NY
DESCRIPTION:The Trestle – 8506 Greig Street – Sodus Point NY 14555
URL:https://flockbandmusic.com/event/the-trestle-sodus-point-ny-4/
END:VEVENT
BEGIN:VEVENT
DTSTART;TZID=UTC:20260710T180000
DTEND;TZID=UTC:20260710T200000
DTSTAMP:20260422T172717
CREATED:20260209T094248Z
LAST-MODIFIED:20260209T144247Z
UID:999-1783706400-1783713600@flockbandmusic.com
SUMMARY:Music on the Erie
DESCRIPTION:Join us for Music on the Erie on July 10th! From 6-8pm.
URL:https://flockbandmusic.com/event/music-on-the-erie/
LOCATION:Music on the Erie\, Newark\, NY\, United States
END:VEVENT
BEGIN:VEVENT
DTSTART;TZID=UTC:20260716T180000
DTEND;TZID=UTC:20260716T210000
DTSTAMP:20260422T172717
CREATED:20260209T125911Z
LAST-MODIFIED:20260209T180002Z
UID:1075-1784224800-1784235600@flockbandmusic.com
SUMMARY:The Trestle - Sodus Point NY
DESCRIPTION:The Trestle – 8506 Greig Street – Sodus Point NY 14555
URL:https://flockbandmusic.com/event/the-trestle-sodus-point-ny-3/
END:VEVENT
END:VCALENDAR